BEGIN:VCALENDAR
VERSION:2.0
PRODID:-//San Francisco SPCA - ECPv6.15.20//NONSGML v1.0//EN
CALSCALE:GREGORIAN
METHOD:PUBLISH
X-ORIGINAL-URL:https://www.sfspca.org
X-WR-CALDESC:Events for San Francisco SPCA
REFRESH-INTERVAL;VALUE=DURATION:PT1H
X-Robots-Tag:noindex
X-PUBLISHED-TTL:PT1H
BEGIN:VTIMEZONE
TZID:America/Los_Angeles
BEGIN:DAYLIGHT
TZOFFSETFROM:-0800
TZOFFSETTO:-0700
TZNAME:PDT
DTSTART:20230312T100000
END:DAYLIGHT
BEGIN:STANDARD
TZOFFSETFROM:-0700
TZOFFSETTO:-0800
TZNAME:PST
DTSTART:20231105T090000
END:STANDARD
BEGIN:DAYLIGHT
TZOFFSETFROM:-0800
TZOFFSETTO:-0700
TZNAME:PDT
DTSTART:20240310T100000
END:DAYLIGHT
BEGIN:STANDARD
TZOFFSETFROM:-0700
TZOFFSETTO:-0800
TZNAME:PST
DTSTART:20241103T090000
END:STANDARD
BEGIN:DAYLIGHT
TZOFFSETFROM:-0800
TZOFFSETTO:-0700
TZNAME:PDT
DTSTART:20250309T100000
END:DAYLIGHT
BEGIN:STANDARD
TZOFFSETFROM:-0700
TZOFFSETTO:-0800
TZNAME:PST
DTSTART:20251102T090000
END:STANDARD
BEGIN:DAYLIGHT
TZOFFSETFROM:-0800
TZOFFSETTO:-0700
TZNAME:PDT
DTSTART:20260308T100000
END:DAYLIGHT
BEGIN:STANDARD
TZOFFSETFROM:-0700
TZOFFSETTO:-0800
TZNAME:PST
DTSTART:20261101T090000
END:STANDARD
END:VTIMEZONE
BEGIN:VEVENT
DTSTART;TZID=America/Los_Angeles:20250621T100000
DTEND;TZID=America/Los_Angeles:20250621T120000
DTSTAMP:20260423T021723
CREATED:20250610T004635Z
LAST-MODIFIED:20250610T004635Z
UID:10000445-1750500000-1750507200@www.sfspca.org
SUMMARY:Join the SF SPCA at Thrive City's Paws-itively Summer
DESCRIPTION:Attention all dog parents! Head on over to Thrive City’s Paws-itively Summer series.\nVisit the SF SPCA pop-up booth and visit with our Animal Assisted Therapy Ambassadors. \nEnjoy pet-friendly activities including a pup park\, puppy giveaways\, and mixers where you can connect with other pet owners. Put on your best outfit and create something special for your pet at our craft station—then snap a photo at our paw-parazzi photo opportunity! \nClick here to RSVP.
URL:https://www.sfspca.org/event/join-the-sf-spca-at-thrive-citys-paws-itively-summer-3/
LOCATION:Thrive City\, 1725 3rd Street\, San Francisco\, CA\, 94158\, United States
ATTACH;FMTTYPE=image/jpeg:https://www.sfspca.org/wp-content/uploads/2024/05/GSW.jpg
END:VEVENT
BEGIN:VEVENT
DTSTART;TZID=America/Los_Angeles:20240720T100000
DTEND;TZID=America/Los_Angeles:20240720T120000
DTSTAMP:20260423T021723
CREATED:20240530T233917Z
LAST-MODIFIED:20240530T233917Z
UID:10000424-1721469600-1721476800@www.sfspca.org
SUMMARY:Join the SF SPCA at Thrive City's Paws-itively Summer
DESCRIPTION:Attention all dog parents! Head on over to Thrive City’s Paws-itively Summer series.\nVisit the SF SPCA pop-up booth and visit with our Animal Assisted Therapy Ambassadors.\nEnjoy pet-friendly activities including a pup park\, pup cup bar\, and puppy mixers where you can connect with other pet owners.\nPut on your best outfit and decorate a pet bandana at our craft station\, then snap a photo at our paw-parazzi photo opportunity! \nEventbrite registration is required. Click here to RSVP.
URL:https://www.sfspca.org/event/join-the-sf-spca-at-thrive-citys-paws-itively-summer-2/
LOCATION:Thrive City\, 1725 3rd Street\, San Francisco\, CA\, 94158\, United States
ATTACH;FMTTYPE=image/jpeg:https://www.sfspca.org/wp-content/uploads/2024/05/GSW.jpg
END:VEVENT
BEGIN:VEVENT
DTSTART;TZID=America/Los_Angeles:20240622T100000
DTEND;TZID=America/Los_Angeles:20240622T120000
DTSTAMP:20260423T021723
CREATED:20240530T233807Z
LAST-MODIFIED:20240530T233807Z
UID:10000422-1719050400-1719057600@www.sfspca.org
SUMMARY:Join the SF SPCA at Thrive City's Paws-itively Summer
DESCRIPTION:Attention all dog parents! Head on over to Thrive City’s Paws-itively Summer series.\nVisit the SF SPCA pop-up booth and visit with our Animal Assisted Therapy Ambassadors.\nEnjoy pet-friendly activities including a pup park\, pup cup bar\, and puppy mixers where you can connect with other pet owners.\nPut on your best outfit and decorate a pet bandana at our craft station\, then snap a photo at our paw-parazzi photo opportunity! \nEventbrite registration is required. Click here to RSVP.
URL:https://www.sfspca.org/event/join-the-sf-spca-at-thrive-citys-paws-itively-summer/
LOCATION:Thrive City\, 1725 3rd Street\, San Francisco\, CA\, 94158\, United States
ATTACH;FMTTYPE=image/jpeg:https://www.sfspca.org/wp-content/uploads/2024/05/GSW.jpg
END:VEVENT
END:VCALENDAR