BEGIN:VCALENDAR
VERSION:2.0
PRODID:-//San Francisco SPCA - ECPv6.15.20//NONSGML v1.0//EN
CALSCALE:GREGORIAN
METHOD:PUBLISH
X-ORIGINAL-URL:https://www.sfspca.org
X-WR-CALDESC:Events for San Francisco SPCA
REFRESH-INTERVAL;VALUE=DURATION:PT1H
X-Robots-Tag:noindex
X-PUBLISHED-TTL:PT1H
BEGIN:VTIMEZONE
TZID:America/Los_Angeles
BEGIN:DAYLIGHT
TZOFFSETFROM:-0800
TZOFFSETTO:-0700
TZNAME:PDT
DTSTART:20250309T100000
END:DAYLIGHT
BEGIN:STANDARD
TZOFFSETFROM:-0700
TZOFFSETTO:-0800
TZNAME:PST
DTSTART:20251102T090000
END:STANDARD
BEGIN:DAYLIGHT
TZOFFSETFROM:-0800
TZOFFSETTO:-0700
TZNAME:PDT
DTSTART:20260308T100000
END:DAYLIGHT
BEGIN:STANDARD
TZOFFSETFROM:-0700
TZOFFSETTO:-0800
TZNAME:PST
DTSTART:20261101T090000
END:STANDARD
BEGIN:DAYLIGHT
TZOFFSETFROM:-0800
TZOFFSETTO:-0700
TZNAME:PDT
DTSTART:20270314T100000
END:DAYLIGHT
BEGIN:STANDARD
TZOFFSETFROM:-0700
TZOFFSETTO:-0800
TZNAME:PST
DTSTART:20271107T090000
END:STANDARD
END:VTIMEZONE
BEGIN:VEVENT
DTSTART;TZID=America/Los_Angeles:20260912T130500
DTEND;TZID=America/Los_Angeles:20260912T170000
DTSTAMP:20260424T101233
CREATED:20260423T222500Z
LAST-MODIFIED:20260423T222500Z
UID:10000484-1789218300-1789232400@www.sfspca.org
SUMMARY:Join the SF SPCA at Dog Days at Oracle Park
DESCRIPTION:Join the SF SPCA at Dog Days at Oracle Park!  \nCalling all dog lovers and pup parents! Bring your furry best friends to Oracle Park for a PAW-SOME day with the SF SPCA. Watch the Giants take on the San Diego Padres and kick things off with tail-wagging fun!  \nDress your pup in their best costume for a chance to win the coveted contest crown\, and don’t miss the pregame on-field parade—an unforgettable experience for you and your four-legged friend.  \nBest of all\, partial proceeds from each special event ticket support the life-saving work of the SF SPCA.  \nTickets sell out fast—fetch yours today!  \nGame time: 1:05 PM\nTicket sell out fast! To purchase tickets click here.
URL:https://www.sfspca.org/event/join-the-sf-spca-at-dog-days-at-oracle-park-6/
LOCATION:Oracle Park\, 24 Willie Mays Plaza\, San Francisco\, CA\, 94107\, United States
ATTACH;FMTTYPE=image/png:https://www.sfspca.org/wp-content/uploads/2026/04/Dog-Days-9.11.png
END:VEVENT
END:VCALENDAR